BEGIN:VCALENDAR
VERSION:2.0
PRODID:-//Goetz Videoteam - ECPv6.15.20//NONSGML v1.0//EN
CALSCALE:GREGORIAN
METHOD:PUBLISH
X-WR-CALNAME:Goetz Videoteam
X-ORIGINAL-URL:https://goetz-videoteam.de
X-WR-CALDESC:Veranstaltungen für Goetz Videoteam
REFRESH-INTERVAL;VALUE=DURATION:PT1H
X-Robots-Tag:noindex
X-PUBLISHED-TTL:PT1H
BEGIN:VTIMEZONE
TZID:UTC
BEGIN:STANDARD
TZOFFSETFROM:+0000
TZOFFSETTO:+0000
TZNAME:UTC
DTSTART:20250101T000000
END:STANDARD
END:VTIMEZONE
BEGIN:VEVENT
DTSTART;VALUE=DATE:20260905
DTEND;VALUE=DATE:20260907
DTSTAMP:20260420T165226
CREATED:20260115T072724Z
LAST-MODIFIED:20260115T072724Z
UID:226534-1788566400-1788739199@goetz-videoteam.de
SUMMARY:Troisdorfer Stadtmeisterschaft – RKK
DESCRIPTION:
URL:https://goetz-videoteam.de/event/troisdorfer-stadtmeisterschaft-rkk
ATTACH;FMTTYPE=image/png:https://goetz-videoteam.de/wp-content/uploads/2022/03/rkk-logo.png
END:VEVENT
BEGIN:VEVENT
DTSTART;VALUE=DATE:20260912
DTEND;VALUE=DATE:20260914
DTSTAMP:20260420T165226
CREATED:20260115T072545Z
LAST-MODIFIED:20260115T072545Z
UID:226531-1789171200-1789343999@goetz-videoteam.de
SUMMARY:Hessenmeisterschaft – RKK
DESCRIPTION:
URL:https://goetz-videoteam.de/event/hessenmeisterschaft-rkk
ATTACH;FMTTYPE=image/png:https://goetz-videoteam.de/wp-content/uploads/2022/03/rkk-logo.png
END:VEVENT
BEGIN:VEVENT
DTSTART;VALUE=DATE:20260919
DTEND;VALUE=DATE:20260921
DTSTAMP:20260420T165226
CREATED:20260115T072439Z
LAST-MODIFIED:20260115T072439Z
UID:226527-1789776000-1789948799@goetz-videoteam.de
SUMMARY:NRW-Meisterschaft – RKK
DESCRIPTION:
URL:https://goetz-videoteam.de/event/nrw-meisterschaft-rkk
ATTACH;FMTTYPE=image/png:https://goetz-videoteam.de/wp-content/uploads/2022/03/rkk-logo.png
END:VEVENT
BEGIN:VEVENT
DTSTART;VALUE=DATE:20260927
DTEND;VALUE=DATE:20260928
DTSTAMP:20260420T165226
CREATED:20260115T072340Z
LAST-MODIFIED:20260115T072340Z
UID:226525-1790467200-1790553599@goetz-videoteam.de
SUMMARY:Dachser-Cup – RKK
DESCRIPTION:
URL:https://goetz-videoteam.de/event/dachser-cup-rkk
ATTACH;FMTTYPE=image/png:https://goetz-videoteam.de/wp-content/uploads/2022/03/rkk-logo.png
END:VEVENT
END:VCALENDAR