BEGIN:VCALENDAR
VERSION:2.0
PRODID:-//Goetz Videoteam - ECPv6.15.20//NONSGML v1.0//EN
CALSCALE:GREGORIAN
METHOD:PUBLISH
X-ORIGINAL-URL:https://goetz-videoteam.de
X-WR-CALDESC:Veranstaltungen für Goetz Videoteam
REFRESH-INTERVAL;VALUE=DURATION:PT1H
X-Robots-Tag:noindex
X-PUBLISHED-TTL:PT1H
BEGIN:VTIMEZONE
TZID:UTC
BEGIN:STANDARD
TZOFFSETFROM:+0000
TZOFFSETTO:+0000
TZNAME:UTC
DTSTART:20250101T000000
END:STANDARD
END:VTIMEZONE
BEGIN:VEVENT
DTSTART;VALUE=DATE:20261128
DTEND;VALUE=DATE:20261129
DTSTAMP:20260420T202138
CREATED:20260115T084515Z
LAST-MODIFIED:20260115T084515Z
UID:226571-1795824000-1795910399@goetz-videoteam.de
SUMMARY:Gala  Blue  Royal
DESCRIPTION:
URL:https://goetz-videoteam.de/event/gala-blue-royal-2
LOCATION:Aachen\, Deutschland
END:VEVENT
BEGIN:VEVENT
DTSTART;VALUE=DATE:20261128
DTEND;VALUE=DATE:20261130
DTSTAMP:20260420T202138
CREATED:20260115T071638Z
LAST-MODIFIED:20260115T071915Z
UID:226502-1795824000-1795996799@goetz-videoteam.de
SUMMARY:Deutsche Meisterschaft RKK
DESCRIPTION:
URL:https://goetz-videoteam.de/event/deutsche-meisterschaft-rkk
ATTACH;FMTTYPE=image/png:https://goetz-videoteam.de/wp-content/uploads/2022/03/rkk-logo.png
END:VEVENT
END:VCALENDAR